BEGIN:VCALENDAR
VERSION:2.0
PRODID:-//96.7 BOB FM - ECPv5.6.0//NONSGML v1.0//EN
CALSCALE:GREGORIAN
METHOD:PUBLISH
X-WR-CALNAME:96.7 BOB FM
X-ORIGINAL-URL:https://www.967bob.fm
X-WR-CALDESC:Events for 96.7 BOB FM
BEGIN:VTIMEZONE
TZID:America/Los_Angeles
BEGIN:DAYLIGHT
TZOFFSETFROM:-0800
TZOFFSETTO:-0700
TZNAME:PDT
DTSTART:20260308T100000
END:DAYLIGHT
BEGIN:STANDARD
TZOFFSETFROM:-0700
TZOFFSETTO:-0800
TZNAME:PST
DTSTART:20261101T090000
END:STANDARD
END:VTIMEZONE
BEGIN:VEVENT
DTSTART;TZID=America/Los_Angeles:20260428T160000
DTEND;TZID=America/Los_Angeles:20260428T190000
DTSTAMP:20260424T072044
CREATED:20260326T205721Z
LAST-MODIFIED:20260326T205721Z
UID:77075-1777392000-1777402800@www.967bob.fm
SUMMARY:Santa Rosa Metro Expo
DESCRIPTION:Tuesday\, April 28\, 4:00-7:00pm \nLuther Burbank Center for the Arts \nFree and open to the public to attend\n$12 for a beer & wine samples wristband \nLEARN MORE \nThe Metro Expo\, formerly Showcase Sonoma County\, is the Metro Chamber’s largest and most interactive networking event and business expo\, celebrates and highlights the brightest business leaders from the most dynamic companies in Sonoma County. There will be exhibits from over 100 fellow Sonoma County businesses—from tech\, finance and manufacturing to restaurants\, wineries and breweries—from world-renowned brands to local businesses you know and love.
URL:https://www.967bob.fm/event/santa-rosa-metro-expo/
LOCATION:Luther Burbank Center for the Arts\, 50 Mark West Springs Rd\, Santa Rosa\, CA\, 95403\, United States
CATEGORIES:Concert
ATTACH;FMTTYPE=image/jpeg:https://dehayf5mhw1h7.cloudfront.net/wp-content/uploads/sites/1708/2026/03/26135708/637578295_1324207473078384_6930613028624150804_n.jpg
END:VEVENT
BEGIN:VEVENT
DTSTART;TZID=America/Los_Angeles:20260513T170000
DTEND;TZID=America/Los_Angeles:20260513T213000
DTSTAMP:20260424T072044
CREATED:20260423T202403Z
LAST-MODIFIED:20260423T202533Z
UID:77268-1778691600-1778707800@www.967bob.fm
SUMMARY:FUEL: Wednesday Night Market
DESCRIPTION:Wednesday Night Market\, Old Courthouse Sqr\, Santa Rosa CA\nLEARN MORE
URL:https://www.967bob.fm/event/fuel-wednesday-night-market/
LOCATION:Wednesday Night Market\, Old Courthouse Square\, Santa Rosa\, CA\, 95404\, United States
CATEGORIES:Concert,Events
ATTACH;FMTTYPE=image/png:https://dehayf5mhw1h7.cloudfront.net/wp-content/uploads/sites/1708/2026/04/23132355/wnm-logo.png
END:VEVENT
BEGIN:VEVENT
DTSTART;TZID=America/Los_Angeles:20260520T170000
DTEND;TZID=America/Los_Angeles:20260520T213000
DTSTAMP:20260424T072044
CREATED:20260423T202715Z
LAST-MODIFIED:20260423T202715Z
UID:77274-1779296400-1779312600@www.967bob.fm
SUMMARY:Banda Rancho Viejo: Wednesday Night Market
DESCRIPTION:Wednesday Night Market\, Old Courthouse Sqr\, Santa Rosa CA\nLEARN MORE
URL:https://www.967bob.fm/event/banda-rancho-viejo-wednesday-night-market/
LOCATION:Wednesday Night Market\, Old Courthouse Square\, Santa Rosa\, CA\, 95404\, United States
CATEGORIES:Concert,Events
ATTACH;FMTTYPE=image/png:https://dehayf5mhw1h7.cloudfront.net/wp-content/uploads/sites/1708/2026/04/23132355/wnm-logo.png
END:VEVENT
BEGIN:VEVENT
DTSTART;TZID=America/Los_Angeles:20260527T080000
DTEND;TZID=America/Los_Angeles:20260527T170000
DTSTAMP:20260424T072044
CREATED:20260423T202917Z
LAST-MODIFIED:20260423T203326Z
UID:77276-1779868800-1779901200@www.967bob.fm
SUMMARY:Petty Theft: Wednesday Night Market
DESCRIPTION:Wednesday Night Market\, Old Courthouse Sqr\, Santa Rosa CA\nLEARN MORE
URL:https://www.967bob.fm/event/petty-theft-wednesday-night-market/
LOCATION:Wednesday Night Market\, Old Courthouse Square\, Santa Rosa\, CA\, 95404\, United States
CATEGORIES:Concert,Events
ATTACH;FMTTYPE=image/png:https://dehayf5mhw1h7.cloudfront.net/wp-content/uploads/sites/1708/2026/04/23132355/wnm-logo.png
END:VEVENT
BEGIN:VEVENT
DTSTART;TZID=America/Los_Angeles:20260603T170000
DTEND;TZID=America/Los_Angeles:20260603T213000
DTSTAMP:20260424T072044
CREATED:20260423T203549Z
LAST-MODIFIED:20260423T203549Z
UID:77278-1780506000-1780522200@www.967bob.fm
SUMMARY:Los Alegres Callejeros: Wednesday Night Market
DESCRIPTION:Wednesday Night Market\, Old Courthouse Sqr\, Santa Rosa CA\nLEARN MORE
URL:https://www.967bob.fm/event/los-alegres-callejeros-wednesday-night-market/
LOCATION:Wednesday Night Market\, Old Courthouse Square\, Santa Rosa\, CA\, 95404\, United States
CATEGORIES:Concert,Events
ATTACH;FMTTYPE=image/png:https://dehayf5mhw1h7.cloudfront.net/wp-content/uploads/sites/1708/2026/04/23132355/wnm-logo.png
END:VEVENT
BEGIN:VEVENT
DTSTART;TZID=America/Los_Angeles:20260610T170000
DTEND;TZID=America/Los_Angeles:20260610T213000
DTSTAMP:20260424T072044
CREATED:20260423T203824Z
LAST-MODIFIED:20260423T204014Z
UID:77280-1781110800-1781127000@www.967bob.fm
SUMMARY:Urban Outlaws: Wednesday Night Market
DESCRIPTION:Wednesday Night Market\, Old Courthouse Sqr\, Santa Rosa CA\nLEARN MORE
URL:https://www.967bob.fm/event/urban-outlaws-wednesday-night-market/
LOCATION:Wednesday Night Market\, Old Courthouse Square\, Santa Rosa\, CA\, 95404\, United States
CATEGORIES:Concert,Events
ATTACH;FMTTYPE=image/png:https://dehayf5mhw1h7.cloudfront.net/wp-content/uploads/sites/1708/2026/04/23132355/wnm-logo.png
END:VEVENT
BEGIN:VEVENT
DTSTART;TZID=America/Los_Angeles:20260617T170000
DTEND;TZID=America/Los_Angeles:20260617T213000
DTSTAMP:20260424T072044
CREATED:20260423T204259Z
LAST-MODIFIED:20260423T204259Z
UID:77282-1781715600-1781731800@www.967bob.fm
SUMMARY:New Moon on Monday: Wedneday Night Market
DESCRIPTION:Wednesday Night Market\, Old Courthouse Sqr\, Santa Rosa CA\nLEARN MORE
URL:https://www.967bob.fm/event/new-moon-on-monday-wedneday-night-market/
LOCATION:Wednesday Night Market\, Old Courthouse Square\, Santa Rosa\, CA\, 95404\, United States
CATEGORIES:Concert,Events
ATTACH;FMTTYPE=image/png:https://dehayf5mhw1h7.cloudfront.net/wp-content/uploads/sites/1708/2026/04/23132355/wnm-logo.png
END:VEVENT
BEGIN:VEVENT
DTSTART;TZID=America/Los_Angeles:20260624T170000
DTEND;TZID=America/Los_Angeles:20260624T213000
DTSTAMP:20260424T072044
CREATED:20260423T204455Z
LAST-MODIFIED:20260423T204657Z
UID:77284-1782320400-1782336600@www.967bob.fm
SUMMARY:Banda Estrellas de la Bahia: Wednesday Night Market
DESCRIPTION:Wednesday Night Market\, Old Courthouse Sqr\, Santa Rosa CA\nLEARN MORE
URL:https://www.967bob.fm/event/banda-estrellas-de-la-bahia-wednesday-night-market/
LOCATION:Wednesday Night Market\, Old Courthouse Square\, Santa Rosa\, CA\, 95404\, United States
CATEGORIES:Concert,Events
ATTACH;FMTTYPE=image/png:https://dehayf5mhw1h7.cloudfront.net/wp-content/uploads/sites/1708/2026/04/23132355/wnm-logo.png
END:VEVENT
BEGIN:VEVENT
DTSTART;TZID=America/Los_Angeles:20260701T170000
DTEND;TZID=America/Los_Angeles:20260701T213000
DTSTAMP:20260424T072044
CREATED:20260423T204900Z
LAST-MODIFIED:20260423T204900Z
UID:77286-1782925200-1782941400@www.967bob.fm
SUMMARY:Air Force: Wednesday Night Market
DESCRIPTION:Wednesday Night Market\, Old Courthouse Sqr\, Santa Rosa CA\nLEARN MORE
URL:https://www.967bob.fm/event/air-force-wednesday-night-market/
LOCATION:Wednesday Night Market\, Old Courthouse Square\, Santa Rosa\, CA\, 95404\, United States
CATEGORIES:Concert,Events
ATTACH;FMTTYPE=image/png:https://dehayf5mhw1h7.cloudfront.net/wp-content/uploads/sites/1708/2026/04/23132355/wnm-logo.png
END:VEVENT
BEGIN:VEVENT
DTSTART;TZID=America/Los_Angeles:20260708T170000
DTEND;TZID=America/Los_Angeles:20260708T213000
DTSTAMP:20260424T072044
CREATED:20260423T205121Z
LAST-MODIFIED:20260423T205121Z
UID:77288-1783530000-1783546200@www.967bob.fm
SUMMARY:Joose: Wednesday Night Market
DESCRIPTION:Wednesday Night Market\, Old Courthouse Sqr\, Santa Rosa CA\nLEARN MORE
URL:https://www.967bob.fm/event/joose-wednesday-night-market/
LOCATION:Wednesday Night Market\, Old Courthouse Square\, Santa Rosa\, CA\, 95404\, United States
CATEGORIES:Concert,Events
ATTACH;FMTTYPE=image/png:https://dehayf5mhw1h7.cloudfront.net/wp-content/uploads/sites/1708/2026/04/23132355/wnm-logo.png
END:VEVENT
BEGIN:VEVENT
DTSTART;TZID=America/Los_Angeles:20260715T170000
DTEND;TZID=America/Los_Angeles:20260715T213000
DTSTAMP:20260424T072044
CREATED:20260423T205552Z
LAST-MODIFIED:20260423T205552Z
UID:77290-1784134800-1784151000@www.967bob.fm
SUMMARY:Banda Pacifica: Wednesday Night Market
DESCRIPTION:Wednesday Night Market\, Old Courthouse Sqr\, Santa Rosa CA\nLEARN MORE
URL:https://www.967bob.fm/event/banda-pacifica-wednesday-night-market/
LOCATION:Wednesday Night Market\, Old Courthouse Square\, Santa Rosa\, CA\, 95404\, United States
CATEGORIES:Concert,Events
ATTACH;FMTTYPE=image/png:https://dehayf5mhw1h7.cloudfront.net/wp-content/uploads/sites/1708/2026/04/23132355/wnm-logo.png
END:VEVENT
BEGIN:VEVENT
DTSTART;TZID=America/Los_Angeles:20260722T170000
DTEND;TZID=America/Los_Angeles:20260722T213000
DTSTAMP:20260424T072044
CREATED:20260423T205747Z
LAST-MODIFIED:20260423T205747Z
UID:77293-1784739600-1784755800@www.967bob.fm
SUMMARY:National Act TBD: Wednesday Night Market
DESCRIPTION:Wednesday Night Market\, Old Courthouse Sqr\, Santa Rosa CA\nLEARN MORE
URL:https://www.967bob.fm/event/national-act-tbd-wednesday-night-market/
LOCATION:Wednesday Night Market\, Old Courthouse Square\, Santa Rosa\, CA\, 95404\, United States
CATEGORIES:Concert,Events
ATTACH;FMTTYPE=image/png:https://dehayf5mhw1h7.cloudfront.net/wp-content/uploads/sites/1708/2026/04/23132355/wnm-logo.png
END:VEVENT
BEGIN:VEVENT
DTSTART;TZID=America/Los_Angeles:20260729T170000
DTEND;TZID=America/Los_Angeles:20260729T213000
DTSTAMP:20260424T072044
CREATED:20260423T210027Z
LAST-MODIFIED:20260423T210027Z
UID:77295-1785344400-1785360600@www.967bob.fm
SUMMARY:Kingsborough: Wednesday Night Market
DESCRIPTION:Wednesday Night Market\, Old Courthouse Sqr\, Santa Rosa CA\nLEARN MORE
URL:https://www.967bob.fm/event/kingsborough-wednesday-night-market/
LOCATION:Wednesday Night Market\, Old Courthouse Square\, Santa Rosa\, CA\, 95404\, United States
CATEGORIES:Concert,Events
ATTACH;FMTTYPE=image/png:https://dehayf5mhw1h7.cloudfront.net/wp-content/uploads/sites/1708/2026/04/23132355/wnm-logo.png
END:VEVENT
BEGIN:VEVENT
DTSTART;TZID=America/Los_Angeles:20260805T170000
DTEND;TZID=America/Los_Angeles:20260805T213000
DTSTAMP:20260424T072044
CREATED:20260423T210429Z
LAST-MODIFIED:20260423T210429Z
UID:77297-1785949200-1785965400@www.967bob.fm
SUMMARY:Banda Maguey: Wednesday Night Market
DESCRIPTION:Wednesday Night Market\, Old Courthouse Sqr\, Santa Rosa CA\nLEARN MORE
URL:https://www.967bob.fm/event/banda-maguey-wednesday-night-market/
LOCATION:Wednesday Night Market\, Old Courthouse Square\, Santa Rosa\, CA\, 95404\, United States
CATEGORIES:Concert,Events
ATTACH;FMTTYPE=image/png:https://dehayf5mhw1h7.cloudfront.net/wp-content/uploads/sites/1708/2026/04/23132355/wnm-logo.png
END:VEVENT
BEGIN:VEVENT
DTSTART;TZID=America/Los_Angeles:20260812T170000
DTEND;TZID=America/Los_Angeles:20260812T213000
DTSTAMP:20260424T072044
CREATED:20260423T210615Z
LAST-MODIFIED:20260423T210615Z
UID:77299-1786554000-1786570200@www.967bob.fm
SUMMARY:National Act TBD: Wednesday Night Market
DESCRIPTION:Wednesday Night Market\, Old Courthouse Sqr\, Santa Rosa CA\nLEARN MORE
URL:https://www.967bob.fm/event/national-act-tbd-wednesday-night-market-2/
LOCATION:Wednesday Night Market\, Old Courthouse Square\, Santa Rosa\, CA\, 95404\, United States
CATEGORIES:Concert,Events
ATTACH;FMTTYPE=image/png:https://dehayf5mhw1h7.cloudfront.net/wp-content/uploads/sites/1708/2026/04/23132355/wnm-logo.png
END:VEVENT
END:VCALENDAR